Package: Damsel Version: 1.2.0 Command: rm -rf Damsel.buildbin-libdir && mkdir Damsel.buildbin-libdir && /Users/biocbuild/BBS/utils/build-universal.sh Damsel_1.2.0.tar.gz /Library/Frameworks/R.framework/Resources/bin/R Damsel.buildbin-libdir StartedAt: 2025-02-11 13:01:01 -0500 (Tue, 11 Feb 2025) EndedAt: 2025-02-11 13:01:21 -0500 (Tue, 11 Feb 2025) EllapsedTime: 20.3 seconds RetCode: 0 Status: OK PackageFile: Damsel_1.2.0.tgz PackageFileSize: 3.234 MiB