Package: Damsel Version: 1.2.0 Command: /home/biocbuild/bbs-3.20-bioc/R/bin/R CMD INSTALL Damsel StartedAt: 2025-02-10 15:41:48 -0500 (Mon, 10 Feb 2025) EndedAt: 2025-02-10 15:41:53 -0500 (Mon, 10 Feb 2025) EllapsedTime: 5.1 seconds RetCode: 0 Status: OK