Package: Damsel Version: 1.2.0 Command: /home/biocbuild/R/R/bin/R CMD INSTALL Damsel StartedAt: 2025-02-10 20:45:48 -0000 (Mon, 10 Feb 2025) EndedAt: 2025-02-10 20:45:54 -0000 (Mon, 10 Feb 2025) EllapsedTime: 6.4 seconds RetCode: 0 Status: OK