Package: DeMAND Version: 1.36.0 Command: /Library/Frameworks/R.framework/Resources/bin/R CMD INSTALL DeMAND StartedAt: 2025-01-30 15:06:01 -0500 (Thu, 30 Jan 2025) EndedAt: 2025-01-30 15:06:03 -0500 (Thu, 30 Jan 2025) EllapsedTime: 2.3 seconds RetCode: 0 Status: OK