Package: DeMAND Version: 1.36.0 Command: rm -rf DeMAND.buildbin-libdir && mkdir DeMAND.buildbin-libdir && /Users/biocbuild/BBS/utils/build-universal.sh DeMAND_1.36.0.tar.gz /Library/Frameworks/R.framework/Resources/bin/R DeMAND.buildbin-libdir StartedAt: 2025-01-31 12:40:21 -0500 (Fri, 31 Jan 2025) EndedAt: 2025-01-31 12:40:26 -0500 (Fri, 31 Jan 2025) EllapsedTime: 5.2 seconds RetCode: 0 Status: OK PackageFile: DeMAND_1.36.0.tgz PackageFileSize: 351.3 KiB