Package: DeMAND Version: 1.36.0 Command: /Library/Frameworks/R.framework/Resources/bin/R CMD check --install=check:DeMAND.install-out.txt --library=/Library/Frameworks/R.framework/Resources/library --no-vignettes --timings DeMAND_1.36.0.tar.gz StartedAt: 2025-01-31 02:49:48 -0500 (Fri, 31 Jan 2025) EndedAt: 2025-01-31 02:50:34 -0500 (Fri, 31 Jan 2025) EllapsedTime: 46.2 seconds RetCode: 0 Status: OK CheckDir: DeMAND.Rcheck Warnings: 0