Package: DeMAND Version: 1.36.0 Command: /Library/Frameworks/R.framework/Resources/bin/R CMD INSTALL DeMAND StartedAt: 2025-02-03 15:13:20 -0500 (Mon, 03 Feb 2025) EndedAt: 2025-02-03 15:13:41 -0500 (Mon, 03 Feb 2025) EllapsedTime: 20.9 seconds RetCode: 0 Status: OK