Package: DeMAND Version: 1.36.0 Command: /home/biocbuild/bbs-3.20-bioc/R/bin/R CMD INSTALL DeMAND StartedAt: 2025-01-30 15:05:08 -0500 (Thu, 30 Jan 2025) EndedAt: 2025-01-30 15:05:22 -0500 (Thu, 30 Jan 2025) EllapsedTime: 13.7 seconds RetCode: 0 Status: OK