Package: DeMAND Version: 1.36.0 Command: /home/biocbuild/R/R/bin/R CMD INSTALL DeMAND StartedAt: 2025-01-30 20:06:33 -0000 (Thu, 30 Jan 2025) EndedAt: 2025-01-30 20:06:36 -0000 (Thu, 30 Jan 2025) EllapsedTime: 2.9 seconds RetCode: 0 Status: OK