Package: DeMixT Version: 1.22.0 Command: /Library/Frameworks/R.framework/Resources/bin/R CMD INSTALL DeMixT StartedAt: 2025-02-03 17:12:22 -0500 (Mon, 03 Feb 2025) EndedAt: 2025-02-03 17:13:28 -0500 (Mon, 03 Feb 2025) EllapsedTime: 66.9 seconds RetCode: 0 Status: OK