Package: DeMixT Version: 1.22.0 Command: rm -rf DeMixT.buildbin-libdir && mkdir DeMixT.buildbin-libdir && F:\biocbuild\bbs-3.20-bioc\R\bin\R.exe CMD INSTALL --build --library=DeMixT.buildbin-libdir DeMixT_1.22.0.tar.gz StartedAt: 2025-02-04 08:21:35 -0500 (Tue, 04 Feb 2025) EndedAt: 2025-02-04 08:22:53 -0500 (Tue, 04 Feb 2025) EllapsedTime: 77.8 seconds RetCode: 0 Status: OK PackageFile: DeMixT_1.22.0.zip PackageFileSize: 4.243 MiB