Package: DeMixT Version: 1.22.0 Command: chmod a+r DeMixT -R && F:\biocbuild\bbs-3.20-bioc\R\bin\R.exe CMD build --keep-empty-dirs --no-resave-data DeMixT StartedAt: 2025-02-03 18:37:16 -0500 (Mon, 03 Feb 2025) EndedAt: 2025-02-03 18:39:01 -0500 (Mon, 03 Feb 2025) EllapsedTime: 105.4 seconds RetCode: 0 Status: OK PackageFile: DeMixT_1.22.0.tar.gz PackageFileSize: 6.001 MiB