Package: DeMixT Version: 1.22.0 Command: /home/biocbuild/R/R/bin/R CMD build --keep-empty-dirs --no-resave-data DeMixT StartedAt: 2025-02-03 23:07:29 -0000 (Mon, 03 Feb 2025) EndedAt: 2025-02-03 23:09:08 -0000 (Mon, 03 Feb 2025) EllapsedTime: 99.0 seconds RetCode: 0 Status: OK PackageFile: DeMixT_1.22.0.tar.gz PackageFileSize: 6.015 MiB