Package: DeProViR Version: 1.2.0 Command: /Library/Frameworks/R.framework/Resources/bin/R CMD build --keep-empty-dirs --no-resave-data DeProViR StartedAt: 2025-01-30 22:27:23 -0500 (Thu, 30 Jan 2025) EndedAt: 2025-01-30 22:27:50 -0500 (Thu, 30 Jan 2025) EllapsedTime: 27.3 seconds RetCode: 1 Status: ERROR PackageFile: None PackageFileSize: NA