Package: DeProViR Version: 1.2.0 Command: /Library/Frameworks/R.framework/Resources/bin/R CMD INSTALL DeProViR StartedAt: 2025-01-30 17:40:55 -0500 (Thu, 30 Jan 2025) EndedAt: 2025-01-30 17:41:09 -0500 (Thu, 30 Jan 2025) EllapsedTime: 14.0 seconds RetCode: 0 Status: OK