Package: DeProViR Version: 1.2.0 Command: /Library/Frameworks/R.framework/Resources/bin/R CMD build --keep-empty-dirs --no-resave-data DeProViR StartedAt: 2025-01-30 18:33:19 -0500 (Thu, 30 Jan 2025) EndedAt: 2025-01-30 18:47:04 -0500 (Thu, 30 Jan 2025) EllapsedTime: 824.8 seconds RetCode: 0 Status: OK PackageFile: DeProViR_1.2.0.tar.gz PackageFileSize: 1.84 MiB