Package: DeProViR Version: 1.2.0 Command: /Library/Frameworks/R.framework/Resources/bin/R CMD check --install=check:DeProViR.install-out.txt --library=/Library/Frameworks/R.framework/Resources/library --no-vignettes --timings DeProViR_1.2.0.tar.gz StartedAt: 2025-01-31 02:54:19 -0500 (Fri, 31 Jan 2025) EndedAt: 2025-01-31 03:12:06 -0500 (Fri, 31 Jan 2025) EllapsedTime: 1066.7 seconds RetCode: 0 Status: OK CheckDir: DeProViR.Rcheck Warnings: 0