Package: DeProViR Version: 1.2.0 Command: /home/biocbuild/R/R/bin/R CMD build --keep-empty-dirs --no-resave-data DeProViR StartedAt: 2025-01-30 23:08:28 -0000 (Thu, 30 Jan 2025) EndedAt: 2025-01-30 23:24:11 -0000 (Thu, 30 Jan 2025) EllapsedTime: 943.4 seconds RetCode: 1 Status: ERROR PackageFile: None PackageFileSize: NA