Package: DeconRNASeq Version: 1.48.0 Command: /Library/Frameworks/R.framework/Resources/bin/R CMD INSTALL DeconRNASeq StartedAt: 2025-01-30 15:34:49 -0500 (Thu, 30 Jan 2025) EndedAt: 2025-01-30 15:34:54 -0500 (Thu, 30 Jan 2025) EllapsedTime: 4.6 seconds RetCode: 0 Status: OK