Package: DeconRNASeq Version: 1.48.0 Command: rm -rf DeconRNASeq.buildbin-libdir && mkdir DeconRNASeq.buildbin-libdir && /Users/biocbuild/BBS/utils/build-universal.sh DeconRNASeq_1.48.0.tar.gz /Library/Frameworks/R.framework/Resources/bin/R DeconRNASeq.buildbin-libdir StartedAt: 2025-01-31 12:39:05 -0500 (Fri, 31 Jan 2025) EndedAt: 2025-01-31 12:39:20 -0500 (Fri, 31 Jan 2025) EllapsedTime: 14.4 seconds RetCode: 0 Status: OK PackageFile: DeconRNASeq_1.48.0.tgz PackageFileSize: 6.661 MiB