Package: DeconRNASeq Version: 1.48.0 Command: /Library/Frameworks/R.framework/Resources/bin/R CMD INSTALL DeconRNASeq StartedAt: 2025-01-30 15:20:24 -0500 (Thu, 30 Jan 2025) EndedAt: 2025-01-30 15:20:52 -0500 (Thu, 30 Jan 2025) EllapsedTime: 27.1 seconds RetCode: 0 Status: OK