Package: DeconRNASeq Version: 1.48.0 Command: /home/biocbuild/bbs-3.20-bioc/R/bin/R CMD check --install=check:DeconRNASeq.install-out.txt --library=/home/biocbuild/bbs-3.20-bioc/R/site-library --timings DeconRNASeq_1.48.0.tar.gz StartedAt: 2025-01-30 21:26:35 -0500 (Thu, 30 Jan 2025) EndedAt: 2025-01-30 21:27:11 -0500 (Thu, 30 Jan 2025) EllapsedTime: 36.0 seconds RetCode: 0 Status: OK CheckDir: DeconRNASeq.Rcheck Warnings: 0