Package: DeconRNASeq Version: 1.48.0 Command: rm -rf DeconRNASeq.buildbin-libdir && mkdir DeconRNASeq.buildbin-libdir && F:\biocbuild\bbs-3.20-bioc\R\bin\R.exe CMD INSTALL --build --library=DeconRNASeq.buildbin-libdir DeconRNASeq_1.48.0.tar.gz StartedAt: 2025-01-31 08:30:22 -0500 (Fri, 31 Jan 2025) EndedAt: 2025-01-31 08:30:43 -0500 (Fri, 31 Jan 2025) EllapsedTime: 20.3 seconds RetCode: 0 Status: OK PackageFile: DeconRNASeq_1.48.0.zip PackageFileSize: 6.582 MiB