Package: DeconRNASeq Version: 1.48.0 Command: chmod a+r DeconRNASeq -R && F:\biocbuild\bbs-3.20-bioc\R\bin\R.exe CMD build --keep-empty-dirs --no-resave-data DeconRNASeq StartedAt: 2025-01-30 18:18:13 -0500 (Thu, 30 Jan 2025) EndedAt: 2025-01-30 18:18:34 -0500 (Thu, 30 Jan 2025) EllapsedTime: 20.4 seconds RetCode: 0 Status: OK PackageFile: DeconRNASeq_1.48.0.tar.gz PackageFileSize: 6.541 MiB