Package: DeepPINCS Version: 1.14.0 Command: /Library/Frameworks/R.framework/Resources/bin/R CMD check --install=check:DeepPINCS.install-out.txt --library=/Library/Frameworks/R.framework/Resources/library --no-vignettes --timings DeepPINCS_1.14.0.tar.gz StartedAt: 2025-02-04 02:24:14 -0500 (Tue, 04 Feb 2025) EndedAt: 2025-02-04 02:32:41 -0500 (Tue, 04 Feb 2025) EllapsedTime: 507.3 seconds RetCode: 0 Status: OK CheckDir: DeepPINCS.Rcheck Warnings: 0