Package: DeepPINCS Version: 1.14.0 Command: /Library/Frameworks/R.framework/Resources/bin/R CMD INSTALL DeepPINCS StartedAt: 2025-02-03 16:51:02 -0500 (Mon, 03 Feb 2025) EndedAt: 2025-02-03 16:51:34 -0500 (Mon, 03 Feb 2025) EllapsedTime: 32.4 seconds RetCode: 0 Status: OK