Package: DeepPINCS
Version: 1.13.0
Command: chmod a+r DeepPINCS -R && C:\Users\biocbuild\bbs-3.20-bioc\R\bin\R.exe CMD build --keep-empty-dirs --no-resave-data DeepPINCS
StartedAt: 2024-07-15 17:28:12 -0400 (Mon, 15 Jul 2024)
EndedAt: 2024-07-15 17:29:40 -0400 (Mon, 15 Jul 2024)
EllapsedTime: 88.6 seconds
RetCode: 1
Status: ERROR
PackageFile: None
PackageFileSize: NA