Package: DeepPINCS Version: 1.14.0 Command: F:\biocbuild\bbs-3.20-bioc\R\bin\R.exe CMD INSTALL DeepPINCS StartedAt: 2025-02-03 17:14:06 -0500 (Mon, 03 Feb 2025) EndedAt: 2025-02-03 17:14:35 -0500 (Mon, 03 Feb 2025) EllapsedTime: 28.7 seconds RetCode: 0 Status: OK