Package: DeepPINCS Version: 1.14.0 Command: /home/biocbuild/R/R/bin/R CMD build --keep-empty-dirs --no-resave-data DeepPINCS StartedAt: 2025-02-03 23:03:29 -0000 (Mon, 03 Feb 2025) EndedAt: 2025-02-03 23:04:40 -0000 (Mon, 03 Feb 2025) EllapsedTime: 71.0 seconds RetCode: 1 Status: ERROR PackageFile: None PackageFileSize: NA