Package: DeepPINCS Version: 1.14.0 Command: /home/biocbuild/R/R/bin/R CMD INSTALL DeepPINCS StartedAt: 2025-02-03 21:24:25 -0000 (Mon, 03 Feb 2025) EndedAt: 2025-02-03 21:24:45 -0000 (Mon, 03 Feb 2025) EllapsedTime: 20.4 seconds RetCode: 0 Status: OK