Package: DeepTarget Version: 1.0.0 Command: /Library/Frameworks/R.framework/Resources/bin/R CMD check --install=check:DeepTarget.install-out.txt --library=/Library/Frameworks/R.framework/Resources/library --no-vignettes --timings DeepTarget_1.0.0.tar.gz StartedAt: 2025-01-31 16:59:09 -0500 (Fri, 31 Jan 2025) EndedAt: 2025-01-31 17:03:21 -0500 (Fri, 31 Jan 2025) EllapsedTime: 251.6 seconds RetCode: 0 Status: OK CheckDir: DeepTarget.Rcheck Warnings: 0