Package: DeepTarget Version: 1.0.0 Command: /Library/Frameworks/R.framework/Resources/bin/R CMD INSTALL DeepTarget StartedAt: 2025-01-30 18:13:49 -0500 (Thu, 30 Jan 2025) EndedAt: 2025-01-30 18:14:13 -0500 (Thu, 30 Jan 2025) EllapsedTime: 24.2 seconds RetCode: 0 Status: OK