Package: DeepTarget Version: 1.0.0 Command: rm -rf DeepTarget.buildbin-libdir && mkdir DeepTarget.buildbin-libdir && /Users/biocbuild/BBS/utils/build-universal.sh DeepTarget_1.0.0.tar.gz /Library/Frameworks/R.framework/Resources/bin/R DeepTarget.buildbin-libdir StartedAt: 2025-01-31 12:39:22 -0500 (Fri, 31 Jan 2025) EndedAt: 2025-01-31 12:40:10 -0500 (Fri, 31 Jan 2025) EllapsedTime: 47.4 seconds RetCode: 0 Status: OK PackageFile: DeepTarget_1.0.0.tgz PackageFileSize: 2.816 MiB