Package: DeepTarget Version: 1.0.0 Command: /home/biocbuild/bbs-3.20-bioc/R/bin/R CMD build --keep-empty-dirs --no-resave-data --md5 DeepTarget StartedAt: 2025-02-03 17:07:01 -0500 (Mon, 03 Feb 2025) EndedAt: 2025-02-03 17:07:40 -0500 (Mon, 03 Feb 2025) EllapsedTime: 39.0 seconds RetCode: 0 Status: OK PackageFile: DeepTarget_1.0.0.tar.gz PackageFileSize: 2.72 MiB