Package: DeepTarget Version: 1.0.0 Command: chmod a+r DeepTarget -R && F:\biocbuild\bbs-3.20-bioc\R\bin\R.exe CMD build --keep-empty-dirs --no-resave-data DeepTarget StartedAt: 2025-01-30 18:19:54 -0500 (Thu, 30 Jan 2025) EndedAt: 2025-01-30 18:21:05 -0500 (Thu, 30 Jan 2025) EllapsedTime: 70.2 seconds RetCode: 0 Status: OK PackageFile: DeepTarget_1.0.0.tar.gz PackageFileSize: 2.338 MiB