Package: DeepTarget Version: 1.0.0 Command: F:\biocbuild\bbs-3.20-bioc\R\bin\R.exe CMD INSTALL DeepTarget StartedAt: 2025-01-30 16:54:22 -0500 (Thu, 30 Jan 2025) EndedAt: 2025-01-30 16:54:49 -0500 (Thu, 30 Jan 2025) EllapsedTime: 27.1 seconds RetCode: 0 Status: OK