Package: DeepTarget Version: 1.0.0 Command: /home/biocbuild/R/R/bin/R CMD build --keep-empty-dirs --no-resave-data DeepTarget StartedAt: 2025-01-30 23:03:25 -0000 (Thu, 30 Jan 2025) EndedAt: 2025-01-30 23:04:21 -0000 (Thu, 30 Jan 2025) EllapsedTime: 56.0 seconds RetCode: 0 Status: OK PackageFile: DeepTarget_1.0.0.tar.gz PackageFileSize: 2.379 MiB