Package: DegCre Version: 1.2.0 Command: /Library/Frameworks/R.framework/Resources/bin/R CMD build --keep-empty-dirs --no-resave-data DegCre StartedAt: 2025-02-03 22:10:45 -0500 (Mon, 03 Feb 2025) EndedAt: 2025-02-03 22:12:26 -0500 (Mon, 03 Feb 2025) EllapsedTime: 100.9 seconds RetCode: 0 Status: OK PackageFile: DegCre_1.2.0.tar.gz PackageFileSize: 2.423 MiB