Package: DegCre Version: 1.2.0 Command: /Library/Frameworks/R.framework/Resources/bin/R CMD build --keep-empty-dirs --no-resave-data DegCre StartedAt: 2024-11-08 16:48:58 -0500 (Fri, 08 Nov 2024) EndedAt: 2024-11-08 16:49:30 -0500 (Fri, 08 Nov 2024) EllapsedTime: 32.3 seconds RetCode: 0 Status: OK PackageFile: DegCre_1.2.0.tar.gz PackageFileSize: 2.423 MiB