Package: DegCre Version: 1.1.0 Command: rm -rf DegCre.buildbin-libdir && mkdir DegCre.buildbin-libdir && C:\Users\biocbuild\bbs-3.20-bioc\R\bin\R.exe CMD INSTALL --build --library=DegCre.buildbin-libdir DegCre_1.1.0.tar.gz StartedAt: 2024-07-16 06:05:56 -0400 (Tue, 16 Jul 2024) EndedAt: 2024-07-16 06:06:38 -0400 (Tue, 16 Jul 2024) EllapsedTime: 42.3 seconds RetCode: 0 Status: OK PackageFile: DegCre_1.1.0.zip PackageFileSize: 2.14 MiB