Package: DelayedArray
Version: 0.32.0
Command: _R_CHECK_CODETOOLS_PROFILE_="suppressFundefMismatch=TRUE" /Library/Frameworks/R.framework/Resources/bin/R CMD check --install=check:DelayedArray.install-out.txt --library=/Library/Frameworks/R.framework/Resources/library --no-vignettes --timings DelayedArray_0.32.0.tar.gz
StartedAt: 2025-02-18 17:11:29 -0500 (Tue, 18 Feb 2025)
EndedAt: 2025-02-18 17:39:45 -0500 (Tue, 18 Feb 2025)
EllapsedTime: 1695.4 seconds
RetCode: 0
Status: WARNINGS
CheckDir: DelayedArray.Rcheck
Warnings: 1