Package: DelayedArray Version: 0.32.0 Command: /home/biocbuild/bbs-3.20-bioc/R/bin/R CMD build --keep-empty-dirs --no-resave-data --md5 DelayedArray StartedAt: 2025-02-03 17:07:47 -0500 (Mon, 03 Feb 2025) EndedAt: 2025-02-03 17:08:44 -0500 (Mon, 03 Feb 2025) EllapsedTime: 56.1 seconds RetCode: 0 Status: OK PackageFile: DelayedArray_0.32.0.tar.gz PackageFileSize: 805.9 KiB