Package: DelayedArray Version: 0.32.0 Command: F:\biocbuild\bbs-3.20-bioc\R\bin\R.exe CMD INSTALL DelayedArray StartedAt: 2025-02-17 15:34:45 -0500 (Mon, 17 Feb 2025) EndedAt: 2025-02-17 15:38:13 -0500 (Mon, 17 Feb 2025) EllapsedTime: 208.0 seconds RetCode: 0 Status: OK