Package: DelayedDataFrame Version: 1.22.0 Command: rm -rf DelayedDataFrame.buildbin-libdir && mkdir DelayedDataFrame.buildbin-libdir && /Users/biocbuild/BBS/utils/build-universal.sh DelayedDataFrame_1.22.0.tar.gz /Library/Frameworks/R.framework/Resources/bin/R DelayedDataFrame.buildbin-libdir StartedAt: 2025-02-05 15:32:44 -0500 (Wed, 05 Feb 2025) EndedAt: 2025-02-05 15:33:08 -0500 (Wed, 05 Feb 2025) EllapsedTime: 23.7 seconds RetCode: 0 Status: OK PackageFile: DelayedDataFrame_1.22.0.tgz PackageFileSize: 918.8 KiB