Package: DelayedDataFrame Version: 1.22.0 Command: /Library/Frameworks/R.framework/Resources/bin/R CMD INSTALL DelayedDataFrame StartedAt: 2025-02-03 15:22:00 -0500 (Mon, 03 Feb 2025) EndedAt: 2025-02-03 15:22:21 -0500 (Mon, 03 Feb 2025) EllapsedTime: 20.5 seconds RetCode: 0 Status: OK