Package: DelayedDataFrame Version: 1.22.0 Command: /home/biocbuild/bbs-3.20-bioc/R/bin/R CMD build --keep-empty-dirs --no-resave-data --md5 DelayedDataFrame StartedAt: 2025-02-03 17:08:00 -0500 (Mon, 03 Feb 2025) EndedAt: 2025-02-03 17:08:27 -0500 (Mon, 03 Feb 2025) EllapsedTime: 27.0 seconds RetCode: 0 Status: OK PackageFile: DelayedDataFrame_1.22.0.tar.gz PackageFileSize: 487.6 KiB