Package: DelayedDataFrame Version: 1.22.0 Command: /home/biocbuild/bbs-3.20-bioc/R/bin/R CMD check --install=check:DelayedDataFrame.install-out.txt --library=/home/biocbuild/bbs-3.20-bioc/R/site-library --timings DelayedDataFrame_1.22.0.tar.gz StartedAt: 2025-02-03 21:41:19 -0500 (Mon, 03 Feb 2025) EndedAt: 2025-02-03 21:43:25 -0500 (Mon, 03 Feb 2025) EllapsedTime: 126.1 seconds RetCode: 0 Status: OK CheckDir: DelayedDataFrame.Rcheck Warnings: 0