Package: DelayedDataFrame Version: 1.22.0 Command: /home/biocbuild/bbs-3.20-bioc/R/bin/R CMD INSTALL DelayedDataFrame StartedAt: 2025-02-03 15:18:45 -0500 (Mon, 03 Feb 2025) EndedAt: 2025-02-03 15:19:01 -0500 (Mon, 03 Feb 2025) EllapsedTime: 16.4 seconds RetCode: 0 Status: OK