Package: DelayedTensor Version: 1.12.0 Command: F:\biocbuild\bbs-3.20-bioc\R\bin\R.exe CMD INSTALL DelayedTensor StartedAt: 2025-02-03 16:17:12 -0500 (Mon, 03 Feb 2025) EndedAt: 2025-02-03 16:18:55 -0500 (Mon, 03 Feb 2025) EllapsedTime: 102.7 seconds RetCode: 0 Status: OK