Package: DepInfeR
Version: 1.10.0
Command: rm -rf DepInfeR.buildbin-libdir && mkdir DepInfeR.buildbin-libdir && F:\biocbuild\bbs-3.20-bioc\R\bin\R.exe CMD INSTALL --build --library=DepInfeR.buildbin-libdir DepInfeR_1.10.0.tar.gz
StartedAt: 2025-02-18 07:59:12 -0500 (Tue, 18 Feb 2025)
EndedAt: 2025-02-18 07:59:22 -0500 (Tue, 18 Feb 2025)
EllapsedTime: 9.5 seconds
RetCode: 0
Status: OK
PackageFile: DepInfeR_1.10.0.zip
PackageFileSize: 1.775 <A href="http://en.wikipedia.org/wiki/MiB" target="_blank">MiB</A>